BEGIN:VCALENDAR
VERSION:2.0
PRODID:-//IIHA - ECPv6.15.12.2//NONSGML v1.0//EN
CALSCALE:GREGORIAN
METHOD:PUBLISH
X-ORIGINAL-URL:https://iihaglobal.org
X-WR-CALDESC:Events for IIHA
REFRESH-INTERVAL;VALUE=DURATION:PT1H
X-Robots-Tag:noindex
X-PUBLISHED-TTL:PT1H
BEGIN:VTIMEZONE
TZID:America/New_York
BEGIN:DAYLIGHT
TZOFFSETFROM:-0500
TZOFFSETTO:-0400
TZNAME:EDT
DTSTART:20240310T070000
END:DAYLIGHT
BEGIN:STANDARD
TZOFFSETFROM:-0400
TZOFFSETTO:-0500
TZNAME:EST
DTSTART:20241103T060000
END:STANDARD
BEGIN:DAYLIGHT
TZOFFSETFROM:-0500
TZOFFSETTO:-0400
TZNAME:EDT
DTSTART:20250309T070000
END:DAYLIGHT
BEGIN:STANDARD
TZOFFSETFROM:-0400
TZOFFSETTO:-0500
TZNAME:EST
DTSTART:20251102T060000
END:STANDARD
BEGIN:DAYLIGHT
TZOFFSETFROM:-0500
TZOFFSETTO:-0400
TZNAME:EDT
DTSTART:20260308T070000
END:DAYLIGHT
BEGIN:STANDARD
TZOFFSETFROM:-0400
TZOFFSETTO:-0500
TZNAME:EST
DTSTART:20261101T060000
END:STANDARD
END:VTIMEZONE
BEGIN:VEVENT
DTSTART;TZID=America/New_York:20250305T103000
DTEND;TZID=America/New_York:20250305T113000
DTSTAMP:20260421T115006
CREATED:20250214T193111Z
LAST-MODIFIED:20250214T193111Z
UID:956-1741170600-1741174200@iihaglobal.org
SUMMARY:IDHA 60 Pretoria Information Session
DESCRIPTION:IDHA 60 Pretoria Information Session\n\nJoin the IIHA team for an information session on our next International Diploma in Humanitarian Assistance (IDHA)! Taking place in Pretoria\, South Africa\, you will gain classroom and hands-on experience during four weeks of rigorous modules focused on humanitarian aid. Throughout the course\, you will be able to work alongside peers from various humanitarian\, emergency\, and human rights organizations and learn from alumni practitioners and lecturers with worldwide experience. At the end of the information session\, we will open the floor for Q&A. Please note this session will be recorded for those unable to attend. Any questions regarding the session can be sent to iiha@fordham.edu and iihaoutreach@fordham.edu. Thanks\, and see you there! \nREGISTER HERE
URL:https://iihaglobal.org/event/idha-60-pretoria-information-session-4/
LOCATION:Online
CATEGORIES:IDHA
ATTACH;FMTTYPE=image/jpeg:https://iihaglobal.org/wp-content/uploads/2024/07/50534771_10161526766400615_3562955287935582208_n.jpg
ORGANIZER;CN="IIHA":MAILTO:iihaoutreach@fordham.edu
END:VEVENT
BEGIN:VEVENT
DTSTART;TZID=America/New_York:20250305T120000
DTEND;TZID=America/New_York:20250513T130000
DTSTAMP:20260421T115006
CREATED:20250402T192131Z
LAST-MODIFIED:20250402T192131Z
UID:1012-1741176000-1747141200@iihaglobal.org
SUMMARY:MS in Humanitarian Studies Information Session
DESCRIPTION:MS Humanitarian Studies Information Session  \nAbout the Humanitarian Studies Program: \nBuilt on social justice values and humanitarian principles\, this 30-credit interdisciplinary program is uniquely focused on the theory and practice of humanitarian relief and is centered on equipping you with a wide range of skills and competencies necessary for a dynamic career in the sector. \nYou will be challenged to examine critically the political\, social\, economic\, and legal foundations of the contemporary humanitarian sector\, and to master various techniques to engaging holistic and sustainable responses to protracted and rapid onset humanitarian crises. \nAt the end of the information session\, we will open the floor for Q&A. Please note this session will be recorded for those unable to attend. Any questions regarding the session can be sent to iiha@fordham.edu and iihaoutreach@fordham.edu. Thanks\, and see you there! \nREGISTER HERE \nHERE
URL:https://iihaglobal.org/event/ms-in-humanitarian-studies-information-session-2/
LOCATION:Online
CATEGORIES:IDHA
ATTACH;FMTTYPE=image/jpeg:https://iihaglobal.org/wp-content/uploads/2024/07/50534771_10161526766400615_3562955287935582208_n.jpg
ORGANIZER;CN="IIHA":MAILTO:iihaoutreach@fordham.edu
END:VEVENT
END:VCALENDAR