BEGIN:VCALENDAR
VERSION:2.0
PRODID:-//IIHA - ECPv6.15.12.2//NONSGML v1.0//EN
CALSCALE:GREGORIAN
METHOD:PUBLISH
X-WR-CALNAME:IIHA
X-ORIGINAL-URL:https://iihaglobal.org
X-WR-CALDESC:Events for IIHA
REFRESH-INTERVAL;VALUE=DURATION:PT1H
X-Robots-Tag:noindex
X-PUBLISHED-TTL:PT1H
BEGIN:VTIMEZONE
TZID:UTC
BEGIN:STANDARD
TZOFFSETFROM:+0000
TZOFFSETTO:+0000
TZNAME:UTC
DTSTART:20250101T000000
END:STANDARD
END:VTIMEZONE
BEGIN:VEVENT
DTSTART;TZID=UTC:20260506T120000
DTEND;TZID=UTC:20260506T130000
DTSTAMP:20260419T155855
CREATED:20260417T200756Z
LAST-MODIFIED:20260417T200756Z
UID:1323-1778068800-1778072400@iihaglobal.org
SUMMARY:Future of Humanitarian Aid
DESCRIPTION:REGISTER HERE TO ATTEND  \n 
URL:https://iihaglobal.org/event/future-of-humanitarian-aid/
LOCATION:Online
ATTACH;FMTTYPE=image/png:https://iihaglobal.org/wp-content/uploads/2026/04/image-4.png
ORGANIZER;CN="IIHA":MAILTO:iihaoutreach@fordham.edu
END:VEVENT
BEGIN:VEVENT
DTSTART;TZID=UTC:20260507T120000
DTEND;TZID=UTC:20260507T130000
DTSTAMP:20260419T155855
CREATED:20251209T200749Z
LAST-MODIFIED:20260224T184632Z
UID:1182-1778155200-1778158800@iihaglobal.org
SUMMARY:Welcome session for accepted IDHA 62 students
DESCRIPTION:This session is for those who have been admitted into the IDHA 62 program. If you have been admitted to the program and plan to attend\, please check your email for a link to the session soon. \n\n\nDETAILS OF THIS EVENT:Where: Online via Zoom\nWhen: 12:00 pm – 1:00 pm\, Thursday\, May 7th\, 2025\nWho may attend: Admitted students of the IDHA 62 Program
URL:https://iihaglobal.org/event/welcome-session-for-accepted-idha-62-students/
LOCATION:Online
ATTACH;FMTTYPE=image/jpeg:https://iihaglobal.org/wp-content/uploads/2024/05/idha.jpg
ORGANIZER;CN="IIHA":MAILTO:iihaoutreach@fordham.edu
END:VEVENT
BEGIN:VEVENT
DTSTART;VALUE=DATE:20260517
DTEND;VALUE=DATE:20260613
DTSTAMP:20260419T155855
CREATED:20251014T164845Z
LAST-MODIFIED:20260225T152910Z
UID:1131-1778976000-1781308799@iihaglobal.org
SUMMARY:IDHA 62 Pretoria\, South Africa
DESCRIPTION:Following our previous IDHA 61 program held in Amman\, Jordan\, our next session will take place in Pretoria\, South Africa. \nIDHA 62 will begin on May 17\, 2026\, and conclude on June 12\, 2026. \nIf you would like to learn more about the program\, feel free to visit our website’s page on the IDHA program or attend one of our upcoming information sessions\, once they are posted.
URL:https://iihaglobal.org/event/idha-62-pretoria-south-africa/
LOCATION:University of Pretoria\, South Africa
ATTACH;FMTTYPE=image/jpeg:https://iihaglobal.org/wp-content/uploads/2024/07/50534771_10161526766400615_3562955287935582208_n.jpg
ORGANIZER;CN="IIHA":MAILTO:iihaoutreach@fordham.edu
END:VEVENT
END:VCALENDAR